BEGIN:VCALENDAR
VERSION:2.0
PRODID:-//WP EVENT Manager Ical//NONSGML Events//EN
CALSCALE:GREGORIAN
BEGIN:VTIMEZONE
TZID:Europe/London
BEGIN:STANDARD
DTSTART:19700101T000000
TZOFFSETFROM:+0000
TZOFFSETTO:+0000
END:STANDARD
END:VTIMEZONE
BEGIN:VEVENT
UID:69e739d70806e@bookagility.co.uk
DTSTAMP:20260421T094823
DTSTART;TZID=Europe/London:20260428T100000
DTEND;TZID=Europe/London:20260428T120000
LOCATION:Dog Central, West Rolstone Rd, Hewish, North Somerset, BS24 6UR
SUMMARY:Masterclass Course Running
DESCRIPTION:Beyond Grade 7 course running session with Kathryn Stickney for trainer support, for those up and coming partnerships wishing to challenge skills and handling on open flowing courses with an International flavour!
2 courses, plenty of time to discuss / train multiple handling options / proof obstacle skills. 
Small supportive group, refreshments available. 
 
END:VEVENT
END:VCALENDAR
