BEGIN:VCALENDAR
VERSION:2.0
PRODID:-//WP EVENT Manager Ical//NONSGML Events//EN
CALSCALE:GREGORIAN
BEGIN:VTIMEZONE
TZID:Europe/London
BEGIN:STANDARD
DTSTART:19700101T000000
TZOFFSETFROM:+0000
TZOFFSETTO:+0000
END:STANDARD
END:VTIMEZONE
BEGIN:VEVENT
UID:69e7351bb88af@bookagility.co.uk
DTSTAMP:20260421T092811
DTSTART;TZID=Europe/London:20260424T180000
DTEND;TZID=Europe/London:20260424T210000
LOCATION:Active Agility, Priston, Marksbury, BA2 9HJ
SUMMARY:A4A Gamblers and Snooker evening
DESCRIPTION:Equipment Galican and Naylors.
2 runs over a Gamblers course aimed at beginner/novice 1 to 3
2 runs over a Snooker course aimed at beginner/novice 1 to 3
Treats and Toys welcome, a briefing will be given for both games prior to running for those who need it.
No short times, you will be given time to finish both courses.
END:VEVENT
END:VCALENDAR
